BEGIN:VCALENDAR
VERSION:2.0
PRODID:-//Compagnie Théïa - ECPv6.15.20//NONSGML v1.0//EN
CALSCALE:GREGORIAN
METHOD:PUBLISH
X-WR-CALNAME:Compagnie Théïa
X-ORIGINAL-URL:https://compagnietheia.com
X-WR-CALDESC:Évènements pour Compagnie Théïa
REFRESH-INTERVAL;VALUE=DURATION:PT1H
X-Robots-Tag:noindex
X-PUBLISHED-TTL:PT1H
BEGIN:VTIMEZONE
TZID:Europe/Zurich
BEGIN:DAYLIGHT
TZOFFSETFROM:+0100
TZOFFSETTO:+0200
TZNAME:CEST
DTSTART:20230326T010000
END:DAYLIGHT
BEGIN:STANDARD
TZOFFSETFROM:+0200
TZOFFSETTO:+0100
TZNAME:CET
DTSTART:20231029T010000
END:STANDARD
BEGIN:DAYLIGHT
TZOFFSETFROM:+0100
TZOFFSETTO:+0200
TZNAME:CEST
DTSTART:20240331T010000
END:DAYLIGHT
BEGIN:STANDARD
TZOFFSETFROM:+0200
TZOFFSETTO:+0100
TZNAME:CET
DTSTART:20241027T010000
END:STANDARD
BEGIN:DAYLIGHT
TZOFFSETFROM:+0100
TZOFFSETTO:+0200
TZNAME:CEST
DTSTART:20250330T010000
END:DAYLIGHT
BEGIN:STANDARD
TZOFFSETFROM:+0200
TZOFFSETTO:+0100
TZNAME:CET
DTSTART:20251026T010000
END:STANDARD
END:VTIMEZONE
BEGIN:VEVENT
DTSTART;TZID=Europe/Zurich:20240224T183000
DTEND;TZID=Europe/Zurich:20240224T200000
DTSTAMP:20260420T221348
CREATED:20240222T132306Z
LAST-MODIFIED:20240222T132531Z
UID:819-1708799400-1708804800@compagnietheia.com
SUMMARY:Lecture musicale - Rencontre avec Cécile Coulon
DESCRIPTION:Charlotte Van Dongen est invitée par la Compagnie ARTEFA à mettre en avant la sortie du livre de Cécile Coulon : « La langue des choses cachées« . Elle sera accompagnée de Typhaine Pinville à l’alto.
URL:https://compagnietheia.com/event/lecture-musicale-rencontre-avec-cecile-coulon/
LOCATION:La Librairie Le trait d’union\, 11 rue des halles\, La Rochefoucauld-en-Angoumois\, 16110\, France
ATTACH;FMTTYPE=image/jpeg:https://compagnietheia.com/wp-content/uploads/2024/02/compagnie-theia-charlotte-lecture-musicale.jpg
END:VEVENT
END:VCALENDAR